BEGIN:VCALENDAR
VERSION:2.0
PRODID:-//wp-events-plugin.com//7.2.3.1//EN
TZID:America/Los_Angeles
X-WR-TIMEZONE:America/Los_Angeles
BEGIN:VEVENT
UID:477@uufs.org
DTSTART;TZID=America/Los_Angeles:20240929T140000
DTEND;TZID=America/Los_Angeles:20240929T150000
DTSTAMP:20240919T142437Z
URL:https://uufs.org/events/zoom-covenant-groups-supplement
SUMMARY:Zoom Covenant Groups Supplement
DESCRIPTION:Soul Matters Covenant Groups: Sunday Supplement\n\n\n 	With Rev
 . Johnnie\n\nTo expand our Shared Ministry together\, we will be re-establ
 ishing Covenanting Groups for UUFS.  A covenant group is a small relation
 al group made up of six to twelve people who meet regularly to establish a
 nd nurture themselves in their own beloved community.  The beauty is that
  since we as a community subscribe to the Soul Matters curriculum\, we hav
 e access to their Small Group Ministry packets that give potential groups 
 the opportunity to connect with each other on a spiritual level without ex
 tra work!\n\nSign in using the Sunday Service link: https://bit.ly/uufs-su
 nday-service\n\n&nbsp\;
CATEGORIES:Adult,Learning,Special Event
LOCATION:https://zoom.us/j/958336800
END:VEVENT
BEGIN:VTIMEZONE
TZID:America/Los_Angeles
X-LIC-LOCATION:America/Los_Angeles
BEGIN:DAYLIGHT
DTSTART:20240310T030000
TZOFFSETFROM:-0800
TZOFFSETTO:-0700
TZNAME:PDT
END:DAYLIGHT
END:VTIMEZONE
END:VCALENDAR