BEGIN:VCALENDAR
VERSION:2.0
PRODID:-//wp-events-plugin.com//7.2.3.1//EN
TZID:America/Los_Angeles
X-WR-TIMEZONE:America/Los_Angeles
BEGIN:VEVENT
UID:4099@uufs.org
DTSTART;TZID=America/Los_Angeles:20271122T140000
DTEND;TZID=America/Los_Angeles:20271122T150000
DTSTAMP:20260424T201634Z
URL:https://uufs.org/events/womens-group-2027-01-25-2027-02-22-2027-03-22-
 2027-04-26-2027-05-24-2027-06-28-2027-07-26-2027-08-23-2027-09-27-2027-10-
 25-2027-11-22
SUMMARY:Women's Group
DESCRIPTION:The Women's Group meets every second and fourth Monday for disc
 ussion and conversation. Please click here for details.
CATEGORIES:Adult,Learning
END:VEVENT
BEGIN:VTIMEZONE
TZID:America/Los_Angeles
X-LIC-LOCATION:America/Los_Angeles
BEGIN:STANDARD
DTSTART:20271107T010000
TZOFFSETFROM:-0700
TZOFFSETTO:-0800
TZNAME:PST
END:STANDARD
END:VTIMEZONE
END:VCALENDAR