BEGIN:VCALENDAR
VERSION:2.0
PRODID:-//wp-events-plugin.com//7.2.3.1//EN
TZID:America/Los_Angeles
X-WR-TIMEZONE:America/Los_Angeles
BEGIN:VEVENT
UID:4087@uufs.org
DTSTART;TZID=America/Los_Angeles:20271108T140000
DTEND;TZID=America/Los_Angeles:20271108T150000
DTSTAMP:20260424T201634Z
URL:https://uufs.org/events/womens-group-2027-01-11-2027-02-08-2027-03-08-
 2027-04-12-2027-05-10-2027-06-14-2027-07-12-2027-08-09-2027-09-13-2027-10-
 11-2027-11-08
SUMMARY:Women's Group
DESCRIPTION:The Women's Group meets every second and fourth Monday for disc
 ussion and conversation. Please click here for details.
CATEGORIES:Adult,Learning
END:VEVENT
BEGIN:VTIMEZONE
TZID:America/Los_Angeles
X-LIC-LOCATION:America/Los_Angeles
BEGIN:STANDARD
DTSTART:20271107T010000
TZOFFSETFROM:-0700
TZOFFSETTO:-0800
TZNAME:PST
END:STANDARD
END:VTIMEZONE
END:VCALENDAR