BEGIN:VCALENDAR
VERSION:2.0
PRODID:-//wp-events-plugin.com//7.2.3.1//EN
TZID:America/Los_Angeles
X-WR-TIMEZONE:America/Los_Angeles
BEGIN:VEVENT
UID:719@uufs.org
DTSTART;TZID=America/Los_Angeles:20250118T090000
DTEND;TZID=America/Los_Angeles:20250118T120000
DTSTAMP:20241222T014628Z
URL:https://uufs.org/events/vision-budget-meeting
SUMMARY:Vision Budget Meeting
DESCRIPTION:All are welcome as we share ideas about our vision for the UUFS
  2025-26 budget. We will meet in the Chapel. If you would like to particip
 ate via Zoom\, contact Alan at music@uufs.org for the Zoom link.
CATEGORIES:Community
END:VEVENT
BEGIN:VTIMEZONE
TZID:America/Los_Angeles
X-LIC-LOCATION:America/Los_Angeles
BEGIN:STANDARD
DTSTART:20241103T010000
TZOFFSETFROM:-0700
TZOFFSETTO:-0800
TZNAME:PST
END:STANDARD
END:VTIMEZONE
END:VCALENDAR