BEGIN:VCALENDAR
VERSION:2.0
PRODID:-//wp-events-plugin.com//7.2.3.1//EN
TZID:America/Los_Angeles
X-WR-TIMEZONE:America/Los_Angeles
BEGIN:VEVENT
UID:714@uufs.org
DTSTART;TZID=America/Los_Angeles:20241201T091500
DTEND;TZID=America/Los_Angeles:20241201T103000
DTSTAMP:20241127T173540Z
URL:https://uufs.org/events/uundies-sunday
SUMMARY:Uundies Sunday
DESCRIPTION:Donate to our annual UUndies Sundays drive to benefit the clien
 ts of the North County Homeless Shelter in Sunnyvale\, now serving familie
 s. Bill Wilson Center is the new shelter manager\n\nNeeded are new and unu
 sed items:\n Diapers: sizes 4\,5\,6\n Cotton Underwear: children 0-1
 7 and adult underwear: all sizes\n Pajamas: children and adults (S\, M\
 , L\, XL)\n Cotton Socks\n Twin blankets\n Pillows\n Laundry s
 oap - PODS only\n\nDrop off donations at the back of the sanctuary on Sund
 ay 12/01 or 12/08\, or contact Laurel Beecher at social.justice@uufs.org t
 o arrange for drop-off or pickup. If you prefer\, you can make an online c
 ash donation. If you would like your cash donation to be included in our f
 inal tally of the congregation’s donations\, get the information to Laur
 el.\n
CATEGORIES:Community
END:VEVENT
BEGIN:VTIMEZONE
TZID:America/Los_Angeles
X-LIC-LOCATION:America/Los_Angeles
BEGIN:STANDARD
DTSTART:20241103T010000
TZOFFSETFROM:-0700
TZOFFSETTO:-0800
TZNAME:PST
END:STANDARD
END:VTIMEZONE
END:VCALENDAR