BEGIN:VCALENDAR
VERSION:2.0
PRODID:-//wp-events-plugin.com//7.2.3.1//EN
TZID:America/Los_Angeles
X-WR-TIMEZONE:America/Los_Angeles
BEGIN:VEVENT
UID:2718@uufs.org
DTSTART;TZID=America/Los_Angeles:20251008T183000
DTEND;TZID=America/Los_Angeles:20251008T200000
DTSTAMP:20250930T220657Z
URL:https://uufs.org/events/uufs-creative-chalice-salon
SUMMARY:UUFS Creative Chalice Salon
DESCRIPTION:Wednesday October 8th @ 6:30 - 8:00 p.m.\n\nThis will be the se
 cond meeting of the Creative Chalice Salon hosted by Rev. Johnnie.  I
 t will be hosted at the Fellowship’s facility\, in the Conference Room. 
 Please bring some snacks and non-alcoholic beverages to share\, and your l
 atest creations\, be they fiber crafts\, paintings\, poetry or writing\, m
 odel making\, etc – this is just a time to share with the community and 
 show off our creativity!\n\nContact: revjohnnie@uufs.org
CATEGORIES:Community
END:VEVENT
BEGIN:VTIMEZONE
TZID:America/Los_Angeles
X-LIC-LOCATION:America/Los_Angeles
BEGIN:DAYLIGHT
DTSTART:20250309T030000
TZOFFSETFROM:-0800
TZOFFSETTO:-0700
TZNAME:PDT
END:DAYLIGHT
END:VTIMEZONE
END:VCALENDAR