BEGIN:VCALENDAR
VERSION:2.0
PRODID:-//wp-events-plugin.com//7.2.3.1//EN
TZID:America/Los_Angeles
X-WR-TIMEZONE:America/Los_Angeles
BEGIN:VEVENT
UID:438@uufs.org
DTSTART;TZID=America/Los_Angeles:20240908T103000
DTEND;TZID=America/Los_Angeles:20240908T110000
DTSTAMP:20240825T125807Z
URL:https://uufs.org/events/uu-the-vote-3
SUMMARY:UU the Vote
DESCRIPTION:Join us after the service in Shephard Hall or out on the patio 
 to personalize letters to get out the vote. Materials will be provided. Co
 ntact social.justice@uufs.org if you have questions.
END:VEVENT
BEGIN:VTIMEZONE
TZID:America/Los_Angeles
X-LIC-LOCATION:America/Los_Angeles
BEGIN:DAYLIGHT
DTSTART:20240310T030000
TZOFFSETFROM:-0800
TZOFFSETTO:-0700
TZNAME:PDT
END:DAYLIGHT
END:VTIMEZONE
END:VCALENDAR