BEGIN:VCALENDAR
VERSION:2.0
PRODID:-//wp-events-plugin.com//7.2.3.1//EN
TZID:America/Los_Angeles
X-WR-TIMEZONE:America/Los_Angeles
BEGIN:VEVENT
UID:435@uufs.org
DTSTART;TZID=America/Los_Angeles:20240707T104500
DTEND;TZID=America/Los_Angeles:20240707T111500
DTSTAMP:20240726T003304Z
URL:https://uufs.org/events/uu-the-vote-2
SUMMARY:UU the Vote
DESCRIPTION:Join us in Shephard Hall after the service to personalize lette
 rs to get out the vote.
END:VEVENT
BEGIN:VTIMEZONE
TZID:America/Los_Angeles
X-LIC-LOCATION:America/Los_Angeles
BEGIN:DAYLIGHT
DTSTART:20240310T030000
TZOFFSETFROM:-0800
TZOFFSETTO:-0700
TZNAME:PDT
END:DAYLIGHT
END:VTIMEZONE
END:VCALENDAR