BEGIN:VCALENDAR
VERSION:2.0
PRODID:-//wp-events-plugin.com//7.2.3.1//EN
TZID:America/Los_Angeles
X-WR-TIMEZONE:America/Los_Angeles
BEGIN:VEVENT
UID:4013@uufs.org
DTSTART;TZID=America/Los_Angeles:20260112T190000
DTEND;TZID=America/Los_Angeles:20260112T200000
DTSTAMP:20260106T011507Z
URL:https://uufs.org/events/strategic-reserve-fund-task-force-zoom-supplem
 ent
SUMMARY:Strategic Reserve Fund Task Force Zoom Supplement
DESCRIPTION:Online via Zoom: Zoom link: here.\n\nTask force members will ma
 ke a brief presentation to inform attendees about the activities and miles
 tones completed to date by the task force. We will be presenting the detai
 ls of a proposal which will be voted on by members at the UUFS Business Me
 eting on January 25\, 2026. There will be time for questions and answers. 
 NOTE: This presentation repeats the supplement offered in December. SEE AL
 SO: December UUFS Newsletter for article on the Strategic Reserve Fund Tas
 k Force.
CATEGORIES:Community
END:VEVENT
BEGIN:VTIMEZONE
TZID:America/Los_Angeles
X-LIC-LOCATION:America/Los_Angeles
BEGIN:STANDARD
DTSTART:20251102T010000
TZOFFSETFROM:-0700
TZOFFSETTO:-0800
TZNAME:PST
END:STANDARD
END:VTIMEZONE
END:VCALENDAR