BEGIN:VCALENDAR
VERSION:2.0
PRODID:-//wp-events-plugin.com//7.2.3.1//EN
TZID:America/Los_Angeles
X-WR-TIMEZONE:America/Los_Angeles
BEGIN:VEVENT
UID:4053@uufs.org
DTSTART;TZID=America/Los_Angeles:20261223T193000
DTEND;TZID=America/Los_Angeles:20261223T203000
DTSTAMP:20260419T211701Z
URL:https://uufs.org/events/social-justice-climate-action-2026-05-27-2026-
 06-24-2026-07-22-2026-08-26-2026-09-23-2026-10-28-2026-11-25-2026-12-23
SUMMARY:Social Justice & Climate Action
DESCRIPTION:Social Justice &amp\; Climate Action typically meets on the fou
 rth Wednesday of the month via Zoom: https://zoom.us/j/96254752500. On occ
 asion\, we do meet on another Wednesday of the month. All are welcome as w
 e discuss a variety of issues.
CATEGORIES:Team Meetings,Team Meetings - Routine
LOCATION:https://zoom.us/j/96254752500
END:VEVENT
BEGIN:VTIMEZONE
TZID:America/Los_Angeles
X-LIC-LOCATION:America/Los_Angeles
BEGIN:STANDARD
DTSTART:20261101T010000
TZOFFSETFROM:-0700
TZOFFSETTO:-0800
TZNAME:PST
END:STANDARD
END:VTIMEZONE
END:VCALENDAR