BEGIN:VCALENDAR
VERSION:2.0
PRODID:-//wp-events-plugin.com//7.2.3.1//EN
TZID:America/Los_Angeles
X-WR-TIMEZONE:America/Los_Angeles
BEGIN:VEVENT
UID:4060@uufs.org
DTSTART;TZID=America/Los_Angeles:20270728T193000
DTEND;TZID=America/Los_Angeles:20270728T203000
DTSTAMP:20260419T211701Z
URL:https://uufs.org/events/social-justice-climate-action-2026-05-27-2026-
 06-24-2026-07-22-2026-08-26-2026-09-23-2026-10-28-2026-11-25-2026-12-23-20
 27-01-27-2027-02-24-2027-03-24-2027-04-28-2027-05-26-2027-06-23-2027-07-28
SUMMARY:Social Justice & Climate Action
DESCRIPTION:Social Justice &amp\; Climate Action typically meets on the fou
 rth Wednesday of the month via Zoom: https://zoom.us/j/96254752500. On occ
 asion\, we do meet on another Wednesday of the month. All are welcome as w
 e discuss a variety of issues.
CATEGORIES:Team Meetings,Team Meetings - Routine
LOCATION:https://zoom.us/j/96254752500
END:VEVENT
BEGIN:VTIMEZONE
TZID:America/Los_Angeles
X-LIC-LOCATION:America/Los_Angeles
BEGIN:DAYLIGHT
DTSTART:20270314T030000
TZOFFSETFROM:-0800
TZOFFSETTO:-0700
TZNAME:PDT
END:DAYLIGHT
END:VTIMEZONE
END:VCALENDAR