BEGIN:VCALENDAR
VERSION:2.0
PRODID:-//wp-events-plugin.com//7.2.3.1//EN
TZID:America/Los_Angeles
X-WR-TIMEZONE:America/Los_Angeles
BEGIN:VEVENT
UID:1110@uufs.org
DTSTART;TZID=America/Los_Angeles:20250714T190000
DTEND;TZID=America/Los_Angeles:20250714T200000
DTSTAMP:20250616T162217Z
URL:https://uufs.org/events/re-team-meeting-4
SUMMARY:RE Team Meeting
DESCRIPTION:Religious Education Team Meeting via Zoom.\n\nJoin Director of 
 Religious Education Colleen Hamilton\, her Team\, and interested congregan
 ts on Zoom to discuss operations and vision for the RE program at UUFS. Co
 ntact redirector@uufs.org for more information.
CATEGORIES:Elementary,Team Meetings
END:VEVENT
BEGIN:VTIMEZONE
TZID:America/Los_Angeles
X-LIC-LOCATION:America/Los_Angeles
BEGIN:DAYLIGHT
DTSTART:20250309T030000
TZOFFSETFROM:-0800
TZOFFSETTO:-0700
TZNAME:PDT
END:DAYLIGHT
END:VTIMEZONE
END:VCALENDAR