BEGIN:VCALENDAR
VERSION:2.0
PRODID:-//wp-events-plugin.com//7.2.3.1//EN
TZID:America/Los_Angeles
X-WR-TIMEZONE:America/Los_Angeles
BEGIN:VEVENT
UID:749@uufs.org
DTSTART;TZID=America/Los_Angeles:20250310T190000
DTEND;TZID=America/Los_Angeles:20250310T200000
DTSTAMP:20250303T184144Z
URL:https://uufs.org/events/re-team-meeting-3
SUMMARY:RE Team Meeting
DESCRIPTION:Religious Education Team Meeting via Zoom.\n\nJoin Director of 
 Religious Education Colleen Hamilton\, RE Team Interim Chair Joshua Levy\,
  and interested congregants on Zoom to discuss operations and vision for t
 he RE program at UUFS. The Zoom link can be found at the top of the page u
 nder WHERE. Contact redirector@uufs.org for more information.
CATEGORIES:Team Meetings
LOCATION:https://zoom.us/j/98325584382%20
END:VEVENT
BEGIN:VTIMEZONE
TZID:America/Los_Angeles
X-LIC-LOCATION:America/Los_Angeles
BEGIN:DAYLIGHT
DTSTART:20250309T030000
TZOFFSETFROM:-0800
TZOFFSETTO:-0700
TZNAME:PDT
END:DAYLIGHT
END:VTIMEZONE
END:VCALENDAR