BEGIN:VCALENDAR
VERSION:2.0
PRODID:-//wp-events-plugin.com//7.2.3.1//EN
TZID:America/Los_Angeles
X-WR-TIMEZONE:America/Los_Angeles
BEGIN:VEVENT
UID:4160@uufs.org
DTSTART;TZID=America/Los_Angeles:20271213T190000
DTEND;TZID=America/Los_Angeles:20271213T200000
DTSTAMP:20260424T202233Z
URL:https://uufs.org/events/re-team-meeting-2-2026-10-12-2026-12-14-2027-0
 2-08-2027-04-12-2027-06-14-2027-08-09-2027-10-11-2027-12-13
SUMMARY:RE Team Meeting
DESCRIPTION:Join Director of Religious Education Colleen Hamilton\, RE Team
  Interim Chair Joshua Levy\, and interested congregants on Zoom to discuss
  operations and vision for the RE program at UUFS.
CATEGORIES:Elementary,Learning,Youth
END:VEVENT
BEGIN:VTIMEZONE
TZID:America/Los_Angeles
X-LIC-LOCATION:America/Los_Angeles
BEGIN:STANDARD
DTSTART:20271107T010000
TZOFFSETFROM:-0700
TZOFFSETTO:-0800
TZNAME:PST
END:STANDARD
END:VTIMEZONE
END:VCALENDAR