BEGIN:VCALENDAR
VERSION:2.0
PRODID:-//wp-events-plugin.com//7.2.3.1//EN
TZID:America/Los_Angeles
X-WR-TIMEZONE:America/Los_Angeles
BEGIN:VEVENT
UID:430@uufs.org
DTSTART;TZID=America/Los_Angeles:20240728T110000
DTEND;TZID=America/Los_Angeles:20240728T120000
DTSTAMP:20240713T021708Z
URL:https://uufs.org/events/ranked-choice-voting
SUMMARY:Ranked Choice Voting
DESCRIPTION:There will be a supplement after the service in the chapel by a
  representative from The California Ranked Choice Voting Coalition. The Sa
 nta Clara County Board of Supervisors is considering the use of Ranked Cho
 ice Voting for county elections. Elections for county offices are usually 
 decided by low-turnout primaries where the voters are not representative o
 f the whole electorate. RCV would move the decision to the general electio
 n where the electorate is larger and more diverse\, plus it would eliminat
 e vote splitting and encourage more positive\, issue-focused campaigns. Th
 e Board of Supervisors may decide this issue in August.\n\nThis is a hybri
 d event (in-person and Zoom). The Zoom link is the same as for the Sunday 
 Service: https://bit.ly/uufs-sunday-service
CATEGORIES:Community,Special Event
END:VEVENT
BEGIN:VTIMEZONE
TZID:America/Los_Angeles
X-LIC-LOCATION:America/Los_Angeles
BEGIN:DAYLIGHT
DTSTART:20240310T030000
TZOFFSETFROM:-0800
TZOFFSETTO:-0700
TZNAME:PDT
END:DAYLIGHT
END:VTIMEZONE
END:VCALENDAR