BEGIN:VCALENDAR
VERSION:2.0
PRODID:-//wp-events-plugin.com//7.2.3.1//EN
TZID:America/Los_Angeles
X-WR-TIMEZONE:America/Los_Angeles
BEGIN:VEVENT
UID:1103@uufs.org
DTSTART;TZID=America/Los_Angeles:20250322T173000
DTEND;TZID=America/Los_Angeles:20250322T193000
DTSTAMP:20250309T043010Z
URL:https://uufs.org/events/pledge-dinner
SUMMARY:UUFS Pledge Dinner
DESCRIPTION:On Saturday March 22\, 2025 this year's pledge team will host a
  dinner from 5:30-7:30pm at Shepard Hall.  We will provide the food and a
 ll we ask of you is to share an evening with your UUFS partners as a way t
 o strengthen our bond together and appreciate why we keep the Fellowship a
 live.\n\nPlease sign up here.
CATEGORIES:Special Event
END:VEVENT
BEGIN:VTIMEZONE
TZID:America/Los_Angeles
X-LIC-LOCATION:America/Los_Angeles
BEGIN:DAYLIGHT
DTSTART:20250309T030000
TZOFFSETFROM:-0800
TZOFFSETTO:-0700
TZNAME:PDT
END:DAYLIGHT
END:VTIMEZONE
END:VCALENDAR