BEGIN:VCALENDAR
VERSION:2.0
PRODID:-//wp-events-plugin.com//7.2.3.1//EN
TZID:America/Los_Angeles
X-WR-TIMEZONE:America/Los_Angeles
BEGIN:VEVENT
UID:4105@uufs.org
DTSTART;TZID=America/Los_Angeles:20270128T000000
DTEND;TZID=America/Los_Angeles:20270128T000000
DTSTAMP:20260424T201934Z
URL:https://uufs.org/events/meditation-group-2027-01-07-2027-01-14-2027-01
 -21-2027-01-28
SUMMARY:Meditation Group
DESCRIPTION:The Meditation Group meets each Thursday morning via Zoom. Plea
 se click here for details.
CATEGORIES:Adult,Learning
END:VEVENT
BEGIN:VTIMEZONE
TZID:America/Los_Angeles
X-LIC-LOCATION:America/Los_Angeles
BEGIN:STANDARD
DTSTART:20261101T010000
TZOFFSETFROM:-0700
TZOFFSETTO:-0800
TZNAME:PST
END:STANDARD
END:VTIMEZONE
END:VCALENDAR