BEGIN:VCALENDAR
VERSION:2.0
PRODID:-//wp-events-plugin.com//7.2.3.1//EN
TZID:America/Los_Angeles
X-WR-TIMEZONE:America/Los_Angeles
BEGIN:VEVENT
UID:4142@uufs.org
DTSTART;TZID=America/Los_Angeles:20271014T000000
DTEND;TZID=America/Los_Angeles:20271014T000000
DTSTAMP:20260424T201934Z
URL:https://uufs.org/events/meditation-group-2027-01-07-2027-01-14-2027-01
 -21-2027-01-28-2027-02-04-2027-02-11-2027-02-18-2027-02-25-2027-03-04-2027
 -03-11-2027-03-18-2027-03-25-2027-04-01-2027-04-08-2027-04-15-2027-07-2027
 -10-14
SUMMARY:Meditation Group
DESCRIPTION:The Meditation Group meets each Thursday morning via Zoom. Plea
 se click here for details.
CATEGORIES:Adult,Learning
END:VEVENT
BEGIN:VTIMEZONE
TZID:America/Los_Angeles
X-LIC-LOCATION:America/Los_Angeles
BEGIN:DAYLIGHT
DTSTART:20270314T030000
TZOFFSETFROM:-0800
TZOFFSETTO:-0700
TZNAME:PDT
END:DAYLIGHT
END:VTIMEZONE
END:VCALENDAR