BEGIN:VCALENDAR
VERSION:2.0
PRODID:-//wp-events-plugin.com//7.2.3.1//EN
TZID:America/Los_Angeles
X-WR-TIMEZONE:America/Los_Angeles
BEGIN:VEVENT
UID:1104@uufs.org
DTSTART;TZID=America/Los_Angeles:20250608T103000
DTEND;TZID=America/Los_Angeles:20250608T123000
DTSTAMP:20250607T070031Z
URL:https://uufs.org/events/lisa-lethin-memorial-marketplace-silent-auctio
 n-potluck-brunch
SUMMARY:Lisa Lethin Memorial Marketplace\, Silent Auction & Potluck Brunch
DESCRIPTION:COME ENJOY THE FUN! \n\nPlan to participate in the Lisa Lethin
  Memorial Marketplace\, Silent Auction &amp\; Potluck on June 8 immediatel
 y after service by the religious education (RE) classrooms\, 1098 W Reming
 ton Dr. This is a great opportunity to socialize with other UUFS members\,
  both at the potluck and through events offered in the auction. Discover a
 nd enjoy the hidden talents of our members by bidding on events like "Tea 
 with the Queen" or a custom made to order table runner &amp\; placements. 
 Enjoy a brunch or celebrate the summer solstice with a picnic in the park 
 and viewing the sun through a solar filtered telescope. All offerings and 
 details of how to bid will be provided in the auction catalog.\n\nYou can 
 donate your homemade crafts or tasty treats to the Marketplace or create a
 n event or donate larger items or experiences to the silent auction with t
 his form. Please get them submitted by May 30!\n\nWe're also seeking help 
 in setting up and running the event\; you can sign up here.\n\nThe Marketp
 lace and silent auction will be run in conjunction with a potluck brunch. 
 Please label any foods brought for the potluck and marketplace with ingred
 ients that might affect those with dietary sensitivities. You're encourage
 d to bring your own reusable plates and serviceware.
CATEGORIES:Special Event
END:VEVENT
BEGIN:VTIMEZONE
TZID:America/Los_Angeles
X-LIC-LOCATION:America/Los_Angeles
BEGIN:DAYLIGHT
DTSTART:20250309T030000
TZOFFSETFROM:-0800
TZOFFSETTO:-0700
TZNAME:PDT
END:DAYLIGHT
END:VTIMEZONE
END:VCALENDAR