BEGIN:VCALENDAR
VERSION:2.0
PRODID:-//wp-events-plugin.com//7.2.3.1//EN
TZID:America/Los_Angeles
X-WR-TIMEZONE:America/Los_Angeles
BEGIN:VEVENT
UID:4164@uufs.org
DTSTART;TZID=America/Los_Angeles:20260502T140000
DTEND;TZID=America/Los_Angeles:20260502T170000
DTSTAMP:20260425T143959Z
URL:https://uufs.org/events/inter-congregational-all-ages-game-night-2026-
 01-03-2026-03-07-2026-05-02
SUMMARY:Inter-Congregational All-Ages Game Night
DESCRIPTION:Due to UUFS's congregational workshops on that day\, we will me
 et 2:00-5:00 pm in the UUFS Conference Room (just across the cement walkwa
 y from Shephard Hall where we usually meet).\n\nUUFS adults will be attend
 ing workshops during this window\, but UUFS children are welcome without t
 heir parents--and Los Gatos folks of all ages are welcome as usual! Becaus
 e of the time of day\, we'll stick with light snacks rather than pizza thi
 s time. Please feel free to bring food and games.\n\nWe'll pick up again w
 ith our every-other-first-Saturday 5:00-7:00 game night in UUFS's Shephard
  Hall right away the next month\, on June 6th.\n\nPlease click here for mo
 re details about our Game Night.
CATEGORIES:Adult,Community,Elementary,Learning,Youth
END:VEVENT
BEGIN:VTIMEZONE
TZID:America/Los_Angeles
X-LIC-LOCATION:America/Los_Angeles
BEGIN:DAYLIGHT
DTSTART:20260308T030000
TZOFFSETFROM:-0800
TZOFFSETTO:-0700
TZNAME:PDT
END:DAYLIGHT
END:VTIMEZONE
END:VCALENDAR