BEGIN:VCALENDAR
VERSION:2.0
PRODID:-//wp-events-plugin.com//7.2.3.1//EN
TZID:America/Los_Angeles
X-WR-TIMEZONE:America/Los_Angeles
BEGIN:VEVENT
UID:4165@uufs.org
DTSTART;TZID=America/Los_Angeles:20260704T170000
DTEND;TZID=America/Los_Angeles:20260704T190000
DTSTAMP:20260424T202742Z
URL:https://uufs.org/events/inter-congregational-all-ages-game-night-2026-
 01-03-2026-03-07-2026-05-02-2026-07-04
SUMMARY:Inter-Congregational All-Ages Game Night
DESCRIPTION:Board-game enthusiasts meet every other month on the first Satu
 rday of the month from 5:00 p.m. to 7:00 p.m. We keep a variety of table g
 ames suitable for children\, teens\, and adults on hand—or bring one of 
 your own.\n\nEnjoy good company and potluck snacks while we play! Contact 
 redirector@uufs.org if you have questions.\n\nGame Nights at UUFS in 2026:
 \n\n 	January 3\n 	March 7\n 	May 2 (2-5 pm in the Conference Room)\n 	Jul
 y 4\n 	September 5\n 	November 7\n\nPlease click here for more details abo
 ut our Game Night.
CATEGORIES:Adult,Community,Elementary,Learning,Youth
END:VEVENT
BEGIN:VTIMEZONE
TZID:America/Los_Angeles
X-LIC-LOCATION:America/Los_Angeles
BEGIN:DAYLIGHT
DTSTART:20260308T030000
TZOFFSETFROM:-0800
TZOFFSETTO:-0700
TZNAME:PDT
END:DAYLIGHT
END:VTIMEZONE
END:VCALENDAR