BEGIN:VCALENDAR
VERSION:2.0
PRODID:-//wp-events-plugin.com//7.2.3.1//EN
TZID:America/Los_Angeles
X-WR-TIMEZONE:America/Los_Angeles
BEGIN:VEVENT
UID:476@uufs.org
DTSTART;TZID=America/Los_Angeles:20240929T110000
DTEND;TZID=America/Los_Angeles:20240929T120000
DTSTAMP:20240919T141136Z
URL:https://uufs.org/events/in-person-covenant-groups-supplement
SUMMARY:In-person Covenant Groups Supplement
DESCRIPTION:Soul Matters Covenant Groups: Sunday Supplement 9/29/2024\n\n 	
 With Rev. Johnnie\n\nTo expand our Shared Ministry together\, we will be r
 e-establishing Covenanting Groups for UUFS.  A covenant group is a small 
 relational group made up of six to twelve people who meet regularly to est
 ablish and nurture themselves in their own beloved community. The beauty i
 s that since we as a community subscribe to the Soul Matters curriculum\, 
 we have access to their Small Group Ministry packets that give potential g
 roups the opportunity to connect with each other on a spiritual level with
 out extra work!
CATEGORIES:Adult,Learning,Special Event
LOCATION:UUFS Chapel\, 1112 S. Bernardo Ave.\, Sunnyvale\, CA\, 94087\, CA\
 , United States
X-APPLE-STRUCTURED-LOCATION;VALUE=URI;X-ADDRESS=1112 S. Bernardo Ave.\, Sun
 nyvale\, CA\, 94087\, CA\, United States;X-APPLE-RADIUS=100;X-TITLE=UUFS C
 hapel:geo:0,0
END:VEVENT
BEGIN:VTIMEZONE
TZID:America/Los_Angeles
X-LIC-LOCATION:America/Los_Angeles
BEGIN:DAYLIGHT
DTSTART:20240310T030000
TZOFFSETFROM:-0800
TZOFFSETTO:-0700
TZNAME:PDT
END:DAYLIGHT
END:VTIMEZONE
END:VCALENDAR