BEGIN:VCALENDAR
VERSION:2.0
PRODID:-//wp-events-plugin.com//7.2.3.1//EN
TZID:America/Los_Angeles
X-WR-TIMEZONE:America/Los_Angeles
BEGIN:VEVENT
UID:426@uufs.org
DTSTART;TZID=America/Los_Angeles:20240726T190000
DTEND;TZID=America/Los_Angeles:20240726T210000
DTSTAMP:20240707T181439Z
URL:https://uufs.org/events/genograms-class
SUMMARY:Genograms Class
DESCRIPTION:Rev. Johnnie will be teaching a class on building a genogram--a
  relational family tree. We’ll build our genograms and have a discussion
  on their meanings. Class will be two hours long\, with a small break in b
 etween. Please email revjohnnie@uufs.org for questions\, sign up\, and for
  a small list of needed supplies.
CATEGORIES:Adult,Learning
END:VEVENT
BEGIN:VTIMEZONE
TZID:America/Los_Angeles
X-LIC-LOCATION:America/Los_Angeles
BEGIN:DAYLIGHT
DTSTART:20240310T030000
TZOFFSETFROM:-0800
TZOFFSETTO:-0700
TZNAME:PDT
END:DAYLIGHT
END:VTIMEZONE
END:VCALENDAR