BEGIN:VCALENDAR
VERSION:2.0
PRODID:-//wp-events-plugin.com//7.2.3.1//EN
TZID:America/Los_Angeles
X-WR-TIMEZONE:America/Los_Angeles
BEGIN:VEVENT
UID:433@uufs.org
DTSTART;TZID=America/Los_Angeles:20240811T110000
DTEND;TZID=America/Los_Angeles:20240811T120000
DTSTAMP:20240728T210224Z
URL:https://uufs.org/events/election-forum
SUMMARY:Election Forum
DESCRIPTION:There will be a Sunday Supplement on August 11\, 2024 in the Ch
 apel. This will be a time to share feelings\, thoughts\, hopes\, and fear
 s about our upcoming election.
LOCATION:https://bit.ly/uufs-sunday-service
END:VEVENT
BEGIN:VTIMEZONE
TZID:America/Los_Angeles
X-LIC-LOCATION:America/Los_Angeles
BEGIN:DAYLIGHT
DTSTART:20240310T030000
TZOFFSETFROM:-0800
TZOFFSETTO:-0700
TZNAME:PDT
END:DAYLIGHT
END:VTIMEZONE
END:VCALENDAR