BEGIN:VCALENDAR
VERSION:2.0
PRODID:-//wp-events-plugin.com//7.2.3.1//EN
TZID:America/Los_Angeles
X-WR-TIMEZONE:America/Los_Angeles
BEGIN:VEVENT
UID:475@uufs.org
DTSTART;TZID=America/Los_Angeles:20240928T093000
DTEND;TZID=America/Los_Angeles:20240928T120000
DTSTAMP:20240916T162724Z
URL:https://uufs.org/events/climate-workshop
SUMMARY:Climate Workshop
DESCRIPTION:Hundreds of UU congregations are participating today in a Clima
 te Revival Workshop. Be sure to RSVP by 9/22/2024 by emailing revcat@uufs.
 org. This is a joint event between UUFS and UU Church of Palo Alto. If you
  would like childcare\, please note that in your email. Contact social.jus
 tice@uufs.org for more information.
CATEGORIES:Adult,Learning,Special Event
LOCATION:UU Church of Palo Alto\, 505 E. Charleston Rd.\, Palo Alto\, Unite
 d States
X-APPLE-STRUCTURED-LOCATION;VALUE=URI;X-ADDRESS=505 E. Charleston Rd.\, Pal
 o Alto\, United States;X-APPLE-RADIUS=100;X-TITLE=UU Church of Palo Alto:g
 eo:0,0
END:VEVENT
BEGIN:VTIMEZONE
TZID:America/Los_Angeles
X-LIC-LOCATION:America/Los_Angeles
BEGIN:DAYLIGHT
DTSTART:20240310T030000
TZOFFSETFROM:-0800
TZOFFSETTO:-0700
TZNAME:PDT
END:DAYLIGHT
END:VTIMEZONE
END:VCALENDAR