BEGIN:VCALENDAR
VERSION:2.0
PRODID:-//wp-events-plugin.com//7.2.3.1//EN
TZID:America/Los_Angeles
X-WR-TIMEZONE:America/Los_Angeles
BEGIN:VEVENT
UID:4070@uufs.org
DTSTART;TZID=America/Los_Angeles:20261127T100000
DTEND;TZID=America/Los_Angeles:20261127T111500
DTSTAMP:20260424T200756Z
URL:https://uufs.org/events/book-group-2-2026-11-27
SUMMARY:Book Group
DESCRIPTION:The Book Group generally meets in person on the fourth Friday o
 f the month for a lively discussion of books. Please click here for detail
 s.
CATEGORIES:Adult,Community,Learning
END:VEVENT
BEGIN:VTIMEZONE
TZID:America/Los_Angeles
X-LIC-LOCATION:America/Los_Angeles
BEGIN:STANDARD
DTSTART:20261101T010000
TZOFFSETFROM:-0700
TZOFFSETTO:-0800
TZNAME:PST
END:STANDARD
END:VTIMEZONE
END:VCALENDAR