BEGIN:VCALENDAR
VERSION:2.0
PRODID:-//wp-events-plugin.com//7.2.3.1//EN
TZID:America/Los_Angeles
X-WR-TIMEZONE:America/Los_Angeles
BEGIN:VEVENT
UID:427@uufs.org
DTSTART;TZID=America/Los_Angeles;VALUE=DATE:20240802
DTEND;TZID=America/Los_Angeles;VALUE=DATE:20240805
DTSTAMP:20240721T010908Z
URL:https://uufs.org/events/annual-uufs-campout
SUMMARY:Annual UUFS Campout
DESCRIPTION:Hello campers!  Mark your calendars for our annual UUFS family
  campout. This year it will be on the first weekend in August (Aug 2-4) an
 d we will camp at Mount Madonna County Park\, west of Gilroy.  I reserved
  the Indian Rock Group Camp (capacity 50) for two nights. There will be pl
 enty of room for everyone who would like to come. You can join us for one 
 night or two nights\, or even just to hike in the redwood forest and enjoy
  the campfire with us without spending the night if you prefer. Children o
 f all ages are welcome. Invite a friend! If you lack any equipment (tent\,
  stove\, etc.)\, or don't know what to bring\, let me know and we will hel
 p you.\n\n\n 	Dogs on leash are permitted in the park including on hiking 
 trails. The forest at Mount Madonna is second-growth redwood forest. The p
 ark has 14 miles of hiking trails\, including a trail to the "Giant Twins"
  (two large redwoods).\n 	The park is about an hour drive from Sunnyvale\,
  west of Gilroy off highway 152. It is 47 miles from Sunnyvale\, 11 miles 
 from Gilroy\, 9 miles from Watsonville\, 26 miles from Santa Cruz\, 8 mile
 s from Gilroy Gardens family theme park\, and 26 miles from Casa de Fruta.
 \n\nMt. Madonna County Park\n\n7850 Pole Line Rd\, Watsonville\, CA 95076\
 n\nIndian Rock Group Camp (capacity 50)\n\nStay: Fri 08/02/2024 - Sun 08/0
 4/2024 (2 nights)\n\n 	Park website:\n 	https://parks.sccgov.org/santa-cla
 ra-county-parks/Mt.Madonna-county-park\n 	Park map:\n 	https://parks.sccgo
 v.org/sites/g/files/exjcpb961/files/documents/Mt%20Madonna%20Guide%20Map_1
 .pdf\n 	Park brochure:\n 	https://parks.sccgov.org/sites/g/files/exjcpb961
 /files/documents/Mt%20Madonna%20Brochure%20Cover_1.pdf\n\nPlease contact m
 e with any questions.\n\nAlan Herrmann\nmusic@uufs.org
LOCATION:Mt. Madonna County Park\, 7850 Pole Line Rd\, Watsonville\, CA\, 9
 5076\, United States
X-APPLE-STRUCTURED-LOCATION;VALUE=URI;X-ADDRESS=7850 Pole Line Rd\, Watsonv
 ille\, CA\, 95076\, United States;X-APPLE-RADIUS=100;X-TITLE=Mt. Madonna C
 ounty Park:geo:0,0
END:VEVENT
BEGIN:VTIMEZONE
TZID:America/Los_Angeles
X-LIC-LOCATION:America/Los_Angeles
BEGIN:DAYLIGHT
DTSTART:20240310T030000
TZOFFSETFROM:-0800
TZOFFSETTO:-0700
TZNAME:PDT
END:DAYLIGHT
END:VTIMEZONE
END:VCALENDAR