BEGIN:VCALENDAR
VERSION:2.0
PRODID:-//wp-events-plugin.com//7.2.3.1//EN
TZID:America/Los_Angeles
X-WR-TIMEZONE:America/Los_Angeles
BEGIN:VEVENT
UID:711@uufs.org
DTSTART;TZID=America/Los_Angeles:20241117T104500
DTEND;TZID=America/Los_Angeles:20241117T113000
DTSTAMP:20241111T213626Z
URL:https://uufs.org/events/a-time-for-sharing-2
SUMMARY:A Time for Sharing
DESCRIPTION:Join Rev. Johnnie in the Conference Room for pastoral conversat
 ion and meditative space. This event is hybrid: in-person and via the Sund
 ay Service Zoom link.\n\nChildren provided upon request to redirector@uufs
 .org.
LOCATION:https://bit.ly/uufs-sunday-service
END:VEVENT
BEGIN:VTIMEZONE
TZID:America/Los_Angeles
X-LIC-LOCATION:America/Los_Angeles
BEGIN:STANDARD
DTSTART:20241103T010000
TZOFFSETFROM:-0700
TZOFFSETTO:-0800
TZNAME:PST
END:STANDARD
END:VTIMEZONE
END:VCALENDAR